Package: msqc1 Version: 1.39.0 Command: /home/biocbuild/bbs-3.23-bioc/R/bin/R CMD check --install=check:msqc1.install-out.txt --library=/home/biocbuild/bbs-3.23-bioc/R/site-library --timings msqc1_1.39.0.tar.gz StartedAt: 2025-11-13 12:46:30 -0500 (Thu, 13 Nov 2025) EndedAt: 2025-11-13 12:47:53 -0500 (Thu, 13 Nov 2025) EllapsedTime: 83.6 seconds RetCode: 0 Status: OK CheckDir: msqc1.Rcheck Warnings: 0