Package: msigdb Version: 1.19.0 Command: /home/biocbuild/bbs-3.23-bioc/R/bin/R CMD check --install=check:msigdb.install-out.txt --library=/home/biocbuild/bbs-3.23-bioc/R/site-library --timings msigdb_1.19.0.tar.gz StartedAt: 2025-11-13 12:46:14 -0500 (Thu, 13 Nov 2025) EndedAt: 2025-11-13 13:21:23 -0500 (Thu, 13 Nov 2025) EllapsedTime: 2109.0 seconds RetCode: 0 Status: WARNINGS CheckDir: msigdb.Rcheck Warnings: 1