Package: msPurityData Version: 1.39.0 Command: /home/biocbuild/bbs-3.23-bioc/R/bin/R CMD INSTALL msPurityData StartedAt: 2025-11-13 10:55:20 -0500 (Thu, 13 Nov 2025) EndedAt: 2025-11-13 10:55:22 -0500 (Thu, 13 Nov 2025) EllapsedTime: 2.3 seconds RetCode: 0 Status: OK