Package: msPurityData Version: 1.39.0 Command: /home/biocbuild/bbs-3.23-bioc/R/bin/R CMD check --install=check:msPurityData.install-out.txt --library=/home/biocbuild/bbs-3.23-bioc/R/site-library --timings msPurityData_1.39.0.tar.gz StartedAt: 2025-11-13 12:46:20 -0500 (Thu, 13 Nov 2025) EndedAt: 2025-11-13 12:47:29 -0500 (Thu, 13 Nov 2025) EllapsedTime: 68.3 seconds RetCode: 0 Status: OK CheckDir: msPurityData.Rcheck Warnings: 0