Package: msPurityData Version: 1.39.0 Maintainer: Thomas N. Lawson MaintainerEmail: thomas.nigel.lawson at gmail.com git_url: https://git.bioconductor.org/packages/msPurityData git_branch: devel git_last_commit: ae7c9f8 git_last_commit_date: 2025-10-29 09:58:32 -0500 (Wed, 29 Oct 2025)