Package: mouse4302barcodevecs Version: 1.49.0 Command: /home/biocbuild/bbs-3.23-bioc/R/bin/R CMD INSTALL mouse4302barcodevecs StartedAt: 2025-11-13 10:55:15 -0500 (Thu, 13 Nov 2025) EndedAt: 2025-11-13 10:55:17 -0500 (Thu, 13 Nov 2025) EllapsedTime: 2.3 seconds RetCode: 0 Status: OK