Package: mouse4302barcodevecs Version: 1.49.0 Command: /home/biocbuild/bbs-3.23-bioc/R/bin/R CMD check --install=check:mouse4302barcodevecs.install-out.txt --library=/home/biocbuild/bbs-3.23-bioc/R/site-library --timings mouse4302barcodevecs_1.49.0.tar.gz StartedAt: 2025-11-11 12:41:19 -0500 (Tue, 11 Nov 2025) EndedAt: 2025-11-11 12:41:30 -0500 (Tue, 11 Nov 2025) EllapsedTime: 11.6 seconds RetCode: 0 Status: OK CheckDir: mouse4302barcodevecs.Rcheck Warnings: 0