Package: mouse4302barcodevecs Version: 1.49.0 Command: /home/biocbuild/bbs-3.23-bioc/R/bin/R CMD build --keep-empty-dirs --no-resave-data mouse4302barcodevecs StartedAt: 2025-11-11 11:31:29 -0500 (Tue, 11 Nov 2025) EndedAt: 2025-11-11 11:31:30 -0500 (Tue, 11 Nov 2025) EllapsedTime: 1.0 seconds RetCode: 0 Status: OK PackageFile: mouse4302barcodevecs_1.49.0.tar.gz PackageFileSize: 1021 KiB