Package: minionSummaryData Version: 1.41.0 Command: /home/biocbuild/bbs-3.23-bioc/R/bin/R CMD check --install=check:minionSummaryData.install-out.txt --library=/home/biocbuild/bbs-3.23-bioc/R/site-library --timings minionSummaryData_1.41.0.tar.gz StartedAt: 2025-11-11 12:39:44 -0500 (Tue, 11 Nov 2025) EndedAt: 2025-11-11 12:50:42 -0500 (Tue, 11 Nov 2025) EllapsedTime: 658.7 seconds RetCode: 0 Status: WARNINGS CheckDir: minionSummaryData.Rcheck Warnings: 1