Package: minfiDataEPIC Version: 1.37.0 Command: /home/biocbuild/bbs-3.23-bioc/R/bin/R CMD INSTALL minfiDataEPIC StartedAt: 2025-11-11 11:01:50 -0500 (Tue, 11 Nov 2025) EndedAt: 2025-11-11 11:02:36 -0500 (Tue, 11 Nov 2025) EllapsedTime: 46.6 seconds RetCode: 0 Status: OK