Package: minfiData Version: 0.57.0 Command: /home/biocbuild/bbs-3.23-bioc/R/bin/R CMD check --install=check:minfiData.install-out.txt --library=/home/biocbuild/bbs-3.23-bioc/R/site-library --timings minfiData_0.57.0.tar.gz StartedAt: 2025-11-11 12:38:15 -0500 (Tue, 11 Nov 2025) EndedAt: 2025-11-11 12:41:18 -0500 (Tue, 11 Nov 2025) EllapsedTime: 183.2 seconds RetCode: 0 Status: WARNINGS CheckDir: minfiData.Rcheck Warnings: 1