Package: microbiomeDataSets Version: 1.19.0 Command: /home/biocbuild/bbs-3.23-bioc/R/bin/R CMD INSTALL microbiomeDataSets StartedAt: 2025-11-11 11:01:17 -0500 (Tue, 11 Nov 2025) EndedAt: 2025-11-11 11:01:49 -0500 (Tue, 11 Nov 2025) EllapsedTime: 31.8 seconds RetCode: 0 Status: OK