Package: microbiomeDataSets Version: 1.19.0 Command: /home/biocbuild/bbs-3.23-bioc/R/bin/R CMD check --install=check:microbiomeDataSets.install-out.txt --library=/home/biocbuild/bbs-3.23-bioc/R/site-library --timings microbiomeDataSets_1.19.0.tar.gz StartedAt: 2025-11-11 12:37:57 -0500 (Tue, 11 Nov 2025) EndedAt: 2025-11-11 12:43:26 -0500 (Tue, 11 Nov 2025) EllapsedTime: 328.9 seconds RetCode: 0 Status: OK CheckDir: microbiomeDataSets.Rcheck Warnings: 0