Package: microbiomeDataSets Version: 1.19.0 Command: /home/biocbuild/bbs-3.23-bioc/R/bin/R CMD build --keep-empty-dirs --no-resave-data microbiomeDataSets StartedAt: 2025-11-11 11:30:51 -0500 (Tue, 11 Nov 2025) EndedAt: 2025-11-11 11:31:36 -0500 (Tue, 11 Nov 2025) EllapsedTime: 44.9 seconds RetCode: 0 Status: OK PackageFile: microbiomeDataSets_1.19.0.tar.gz PackageFileSize: 234.9 KiB