Package: microRNAome Version: 1.33.0 Command: /home/biocbuild/bbs-3.23-bioc/R/bin/R CMD check --install=check:microRNAome.install-out.txt --library=/home/biocbuild/bbs-3.23-bioc/R/site-library --timings microRNAome_1.33.0.tar.gz StartedAt: 2025-11-11 12:38:12 -0500 (Tue, 11 Nov 2025) EndedAt: 2025-11-11 12:39:43 -0500 (Tue, 11 Nov 2025) EllapsedTime: 91.6 seconds RetCode: 0 Status: WARNINGS CheckDir: microRNAome.Rcheck Warnings: 2