Package: microRNAome Version: 1.33.0 Command: /home/biocbuild/bbs-3.23-bioc/R/bin/R CMD build --keep-empty-dirs --no-resave-data microRNAome StartedAt: 2025-11-11 11:30:55 -0500 (Tue, 11 Nov 2025) EndedAt: 2025-11-11 11:30:56 -0500 (Tue, 11 Nov 2025) EllapsedTime: 1.0 seconds RetCode: 0 Status: OK PackageFile: microRNAome_1.33.0.tar.gz PackageFileSize: 4.238 MiB