Package: miRcompData Version: 1.41.0 Command: /home/biocbuild/bbs-3.23-bioc/R/bin/R CMD check --install=check:miRcompData.install-out.txt --library=/home/biocbuild/bbs-3.23-bioc/R/site-library --timings miRcompData_1.41.0.tar.gz StartedAt: 2025-11-11 12:39:45 -0500 (Tue, 11 Nov 2025) EndedAt: 2025-11-11 12:40:09 -0500 (Tue, 11 Nov 2025) EllapsedTime: 24.0 seconds RetCode: 0 Status: OK CheckDir: miRcompData.Rcheck Warnings: 0