Package: miRcompData Version: 1.41.0 Command: /home/biocbuild/bbs-3.23-bioc/R/bin/R CMD build --keep-empty-dirs --no-resave-data miRcompData StartedAt: 2025-11-11 11:31:10 -0500 (Tue, 11 Nov 2025) EndedAt: 2025-11-11 11:31:11 -0500 (Tue, 11 Nov 2025) EllapsedTime: 1.0 seconds RetCode: 0 Status: OK PackageFile: miRcompData_1.41.0.tar.gz PackageFileSize: 8.654 MiB