Package: miRNATarget Version: 1.49.0 Command: /home/biocbuild/bbs-3.23-bioc/R/bin/R CMD INSTALL miRNATarget StartedAt: 2025-11-11 10:56:21 -0500 (Tue, 11 Nov 2025) EndedAt: 2025-11-11 10:56:26 -0500 (Tue, 11 Nov 2025) EllapsedTime: 5.0 seconds RetCode: 0 Status: OK