Package: miRNATarget Version: 1.49.0 Maintainer: Y-h. Taguchi MaintainerEmail: tag at granular.com git_url: https://git.bioconductor.org/packages/miRNATarget git_branch: devel git_last_commit: 8e138de git_last_commit_date: 2025-10-29 09:33:12 -0500 (Wed, 29 Oct 2025)