Package: methylclockData Version: 1.19.0 Command: /home/biocbuild/bbs-3.23-bioc/R/bin/R CMD INSTALL methylclockData StartedAt: 2025-11-13 11:03:22 -0500 (Thu, 13 Nov 2025) EndedAt: 2025-11-13 11:04:00 -0500 (Thu, 13 Nov 2025) EllapsedTime: 37.3 seconds RetCode: 0 Status: OK