Package: methylclockData Version: 1.19.0 Command: /home/biocbuild/bbs-3.23-bioc/R/bin/R CMD check --install=check:methylclockData.install-out.txt --library=/home/biocbuild/bbs-3.23-bioc/R/site-library --timings methylclockData_1.19.0.tar.gz StartedAt: 2025-11-13 12:41:48 -0500 (Thu, 13 Nov 2025) EndedAt: 2025-11-13 12:47:00 -0500 (Thu, 13 Nov 2025) EllapsedTime: 312.2 seconds RetCode: 0 Status: OK CheckDir: methylclockData.Rcheck Warnings: 0