Package: methylclockData Version: 1.19.0 Maintainer: Dolors Pelegri-Siso MaintainerEmail: dolors.pelegri at isglobal.org git_url: https://git.bioconductor.org/packages/methylclockData git_branch: devel git_last_commit: 4ef1a25 git_last_commit_date: 2025-10-29 10:03:18 -0500 (Wed, 29 Oct 2025)