Package: mcsurvdata Version: 1.29.0 Command: /home/biocbuild/bbs-3.23-bioc/R/bin/R CMD check --install=check:mcsurvdata.install-out.txt --library=/home/biocbuild/bbs-3.23-bioc/R/site-library --timings mcsurvdata_1.29.0.tar.gz StartedAt: 2025-11-11 12:36:22 -0500 (Tue, 11 Nov 2025) EndedAt: 2025-11-11 12:37:53 -0500 (Tue, 11 Nov 2025) EllapsedTime: 91.2 seconds RetCode: 0 Status: OK CheckDir: mcsurvdata.Rcheck Warnings: 0