Package: mcsurvdata Version: 1.29.0 Command: /home/biocbuild/bbs-3.23-bioc/R/bin/R CMD build --keep-empty-dirs --no-resave-data mcsurvdata StartedAt: 2025-11-11 11:28:36 -0500 (Tue, 11 Nov 2025) EndedAt: 2025-11-11 11:29:02 -0500 (Tue, 11 Nov 2025) EllapsedTime: 25.5 seconds RetCode: 0 Status: OK PackageFile: mcsurvdata_1.29.0.tar.gz PackageFileSize: 229.5 KiB