Package: marinerData Version: 1.11.0 Command: /home/biocbuild/bbs-3.23-bioc/R/bin/R CMD build --keep-empty-dirs --no-resave-data marinerData StartedAt: 2025-11-11 11:28:19 -0500 (Tue, 11 Nov 2025) EndedAt: 2025-11-11 11:32:41 -0500 (Tue, 11 Nov 2025) EllapsedTime: 262.2 seconds RetCode: 0 Status: OK PackageFile: marinerData_1.11.0.tar.gz PackageFileSize: 217.7 KiB