Package: maqcExpression4plex Version: 1.55.0 Command: /home/biocbuild/bbs-3.23-bioc/R/bin/R CMD check --install=check:maqcExpression4plex.install-out.txt --library=/home/biocbuild/bbs-3.23-bioc/R/site-library --timings maqcExpression4plex_1.55.0.tar.gz StartedAt: 2025-11-11 12:35:54 -0500 (Tue, 11 Nov 2025) EndedAt: 2025-11-11 12:36:09 -0500 (Tue, 11 Nov 2025) EllapsedTime: 14.3 seconds RetCode: 0 Status: OK CheckDir: maqcExpression4plex.Rcheck Warnings: 0