Package: maqcExpression4plex Version: 1.55.0 Command: /home/biocbuild/bbs-3.23-bioc/R/bin/R CMD build --keep-empty-dirs --no-resave-data maqcExpression4plex StartedAt: 2025-11-11 11:28:05 -0500 (Tue, 11 Nov 2025) EndedAt: 2025-11-11 11:28:10 -0500 (Tue, 11 Nov 2025) EllapsedTime: 5.0 seconds RetCode: 0 Status: OK PackageFile: maqcExpression4plex_1.55.0.tar.gz PackageFileSize: 6.578 MiB