Package: mammaPrintData Version: 1.47.0 Maintainer: Luigi Marchionni MaintainerEmail: marchion at jhu.edu git_url: https://git.bioconductor.org/packages/mammaPrintData git_branch: devel git_last_commit: ec4044a git_last_commit_date: 2025-10-29 09:53:32 -0500 (Wed, 29 Oct 2025)