Package: macrophage Version: 1.27.0 Maintainer: Michael Love MaintainerEmail: michaelisaiahlove at gmail.com git_url: https://git.bioconductor.org/packages/macrophage git_branch: devel git_last_commit: c9296a1 git_last_commit_date: 2025-10-29 10:01:14 -0500 (Wed, 29 Oct 2025)