Package: mCSEAdata Version: 1.31.1 Command: /home/biocbuild/bbs-3.23-bioc/R/bin/R CMD INSTALL mCSEAdata StartedAt: 2025-11-13 10:58:02 -0500 (Thu, 13 Nov 2025) EndedAt: 2025-11-13 10:59:51 -0500 (Thu, 13 Nov 2025) EllapsedTime: 109.1 seconds RetCode: 0 Status: OK