Package: mCSEAdata Version: 1.31.1 Command: /home/biocbuild/bbs-3.23-bioc/R/bin/R CMD check --install=check:mCSEAdata.install-out.txt --library=/home/biocbuild/bbs-3.23-bioc/R/site-library --timings mCSEAdata_1.31.1.tar.gz StartedAt: 2025-11-11 12:36:17 -0500 (Tue, 11 Nov 2025) EndedAt: 2025-11-11 12:36:59 -0500 (Tue, 11 Nov 2025) EllapsedTime: 41.2 seconds RetCode: 0 Status: WARNINGS CheckDir: mCSEAdata.Rcheck Warnings: 1