Package: mCSEAdata Version: 1.31.1 Command: /home/biocbuild/bbs-3.23-bioc/R/bin/R CMD build --keep-empty-dirs --no-resave-data mCSEAdata StartedAt: 2025-11-13 11:28:48 -0500 (Thu, 13 Nov 2025) EndedAt: 2025-11-13 11:30:46 -0500 (Thu, 13 Nov 2025) EllapsedTime: 117.2 seconds RetCode: 0 Status: OK PackageFile: mCSEAdata_1.31.1.tar.gz PackageFileSize: 25.04 MiB