Package: lydata Version: 1.37.0 Maintainer: Alex Pickering MaintainerEmail: alexvpickering at gmail.com git_url: https://git.bioconductor.org/packages/lydata git_branch: devel git_last_commit: 70e0424 git_last_commit_date: 2025-10-29 09:58:40 -0500 (Wed, 29 Oct 2025)