Package: lungExpression Version: 0.49.0 Command: /home/biocbuild/bbs-3.23-bioc/R/bin/R CMD INSTALL lungExpression StartedAt: 2025-11-13 10:56:05 -0500 (Thu, 13 Nov 2025) EndedAt: 2025-11-13 10:56:07 -0500 (Thu, 13 Nov 2025) EllapsedTime: 1.9 seconds RetCode: 0 Status: OK