Package: lungExpression Version: 0.49.0 Command: /home/biocbuild/bbs-3.23-bioc/R/bin/R CMD build --keep-empty-dirs --no-resave-data lungExpression StartedAt: 2025-11-13 11:27:53 -0500 (Thu, 13 Nov 2025) EndedAt: 2025-11-13 11:27:54 -0500 (Thu, 13 Nov 2025) EllapsedTime: 1.0 seconds RetCode: 0 Status: OK PackageFile: lungExpression_0.49.0.tar.gz PackageFileSize: 5.681 MiB