Package: lumiBarnes Version: 1.51.0 Command: /home/biocbuild/bbs-3.23-bioc/R/bin/R CMD INSTALL lumiBarnes StartedAt: 2025-11-11 11:03:06 -0500 (Tue, 11 Nov 2025) EndedAt: 2025-11-11 11:03:36 -0500 (Tue, 11 Nov 2025) EllapsedTime: 29.9 seconds RetCode: 0 Status: OK