Package: lumiBarnes Version: 1.51.0 Maintainer: Pan Du MaintainerEmail: dupan at northwestern.edu git_url: https://git.bioconductor.org/packages/lumiBarnes git_branch: devel git_last_commit: 5dc920e git_last_commit_date: 2025-10-29 09:30:48 -0500 (Wed, 29 Oct 2025)