Package: leukemiasEset Version: 1.47.0 Maintainer: Sara Aibar MaintainerEmail: saibar at usal.es git_url: https://git.bioconductor.org/packages/leukemiasEset git_branch: devel git_last_commit: 5ac319a git_last_commit_date: 2025-10-29 09:53:17 -0500 (Wed, 29 Oct 2025)