Package: kidpack Version: 1.53.0 Command: /home/biocbuild/bbs-3.23-bioc/R/bin/R CMD check --install=check:kidpack.install-out.txt --library=/home/biocbuild/bbs-3.23-bioc/R/site-library --timings kidpack_1.53.0.tar.gz StartedAt: 2025-11-11 12:33:10 -0500 (Tue, 11 Nov 2025) EndedAt: 2025-11-11 12:33:42 -0500 (Tue, 11 Nov 2025) EllapsedTime: 32.3 seconds RetCode: 0 Status: WARNINGS CheckDir: kidpack.Rcheck Warnings: 1