Package: kidpack Version: 1.53.0 Command: /home/biocbuild/bbs-3.23-bioc/R/bin/R CMD build --keep-empty-dirs --no-resave-data kidpack StartedAt: 2025-11-11 11:26:16 -0500 (Tue, 11 Nov 2025) EndedAt: 2025-11-11 11:26:29 -0500 (Tue, 11 Nov 2025) EllapsedTime: 12.3 seconds RetCode: 0 Status: OK PackageFile: kidpack_1.53.0.tar.gz PackageFileSize: 18.39 MiB