Package: imcdatasets Version: 1.19.0 Command: /home/biocbuild/bbs-3.23-bioc/R/bin/R CMD INSTALL imcdatasets StartedAt: 2025-11-11 10:59:35 -0500 (Tue, 11 Nov 2025) EndedAt: 2025-11-11 11:00:27 -0500 (Tue, 11 Nov 2025) EllapsedTime: 52.0 seconds RetCode: 0 Status: OK