Package: iModMixData Version: 1.1.0 Command: /home/biocbuild/bbs-3.23-bioc/R/bin/R CMD check --install=check:iModMixData.install-out.txt --library=/home/biocbuild/bbs-3.23-bioc/R/site-library --timings iModMixData_1.1.0.tar.gz StartedAt: 2025-11-11 12:31:24 -0500 (Tue, 11 Nov 2025) EndedAt: 2025-11-11 12:33:10 -0500 (Tue, 11 Nov 2025) EllapsedTime: 105.3 seconds RetCode: 0 Status: OK CheckDir: iModMixData.Rcheck Warnings: 0