Package: humanStemCell Version: 0.51.0 Command: /home/biocbuild/bbs-3.23-bioc/R/bin/R CMD INSTALL humanStemCell StartedAt: 2025-11-11 10:57:15 -0500 (Tue, 11 Nov 2025) EndedAt: 2025-11-11 10:57:24 -0500 (Tue, 11 Nov 2025) EllapsedTime: 9.2 seconds RetCode: 0 Status: OK