Package: homosapienDEE2CellScore Version: 1.7.0 Command: /home/biocbuild/bbs-3.23-bioc/R/bin/R CMD INSTALL homosapienDEE2CellScore StartedAt: 2025-11-11 11:00:03 -0500 (Tue, 11 Nov 2025) EndedAt: 2025-11-11 11:00:31 -0500 (Tue, 11 Nov 2025) EllapsedTime: 28.3 seconds RetCode: 0 Status: OK