Package: hgu2beta7 Version: 1.51.0 Command: /home/biocbuild/bbs-3.23-bioc/R/bin/R CMD INSTALL hgu2beta7 StartedAt: 2025-11-11 10:55:45 -0500 (Tue, 11 Nov 2025) EndedAt: 2025-11-11 10:55:46 -0500 (Tue, 11 Nov 2025) EllapsedTime: 1.8 seconds RetCode: 0 Status: OK