Package: hgu2beta7 Version: 1.51.0 Command: /home/biocbuild/bbs-3.23-bioc/R/bin/R CMD check --install=check:hgu2beta7.install-out.txt --library=/home/biocbuild/bbs-3.23-bioc/R/site-library --timings hgu2beta7_1.51.0.tar.gz StartedAt: 2025-11-11 12:27:19 -0500 (Tue, 11 Nov 2025) EndedAt: 2025-11-11 12:27:38 -0500 (Tue, 11 Nov 2025) EllapsedTime: 19.3 seconds RetCode: 0 Status: WARNINGS CheckDir: hgu2beta7.Rcheck Warnings: 4