Package: hgu2beta7 Version: 1.51.0 Command: /home/biocbuild/bbs-3.23-bioc/R/bin/R CMD build --keep-empty-dirs --no-resave-data hgu2beta7 StartedAt: 2025-11-11 11:23:28 -0500 (Tue, 11 Nov 2025) EndedAt: 2025-11-11 11:23:29 -0500 (Tue, 11 Nov 2025) EllapsedTime: 1.4 seconds RetCode: 0 Status: OK PackageFile: hgu2beta7_1.51.0.tar.gz PackageFileSize: 6.409 MiB