Package: hgu133plus2barcodevecs Version: 1.49.0 Maintainer: Matthew N. McCall MaintainerEmail: mmccall at jhsph.edu git_url: https://git.bioconductor.org/packages/hgu133plus2barcodevecs git_branch: devel git_last_commit: 36aaeb6 git_last_commit_date: 2025-10-29 09:31:47 -0500 (Wed, 29 Oct 2025)