Package: hgu133plus2CellScore Version: 1.31.0 Command: /home/biocbuild/bbs-3.23-bioc/R/bin/R CMD build --keep-empty-dirs --no-resave-data hgu133plus2CellScore StartedAt: 2025-11-11 11:23:28 -0500 (Tue, 11 Nov 2025) EndedAt: 2025-11-11 11:23:57 -0500 (Tue, 11 Nov 2025) EllapsedTime: 29.3 seconds RetCode: 0 Status: OK PackageFile: hgu133plus2CellScore_1.31.0.tar.gz PackageFileSize: 41 MiB